BEGIN:VCALENDAR
VERSION:2.0
PRODID:-//Yii2 Events//EN
BEGIN:VEVENT
UID:69e5639fb9191@skupnost-konoplja.eventure.si
DTSTAMP:20260419T232207Z
DTSTART:20250910T180000
DTEND:20251001T203000
SUMMARY:💫 Fičo Trening vsako sredo: plesna improvizacija\, kontaktna improvizacija\, plesna terapija\, Qi work\, somatske prakse\, duhovnost. utelešenost in kreacija.
DESCRIPTION:Pridružite se Fičo Treningu v Ljubljani od 10. septembra! Raziščite telo\, um in duh skozi plesno improvizacijo vsak torek.
LOCATION:Kardeljeva ploščad 28a\, Slovenia
URL:https://skupnost-konoplja.eventure.si/en/event/fico-trening-vsako-sredo-plesna-improvizacija-kontaktna-improvizacija-plesna-terapija-qi-work-somatske-prakse-duhovnost-utelesenost-in-kreacija
END:VEVENT
END:VCALENDAR
