BEGIN:VCALENDAR
VERSION:2.0
PRODID:-//Yii2 Events//EN
BEGIN:VEVENT
UID:69e531198a3f6@skupnost-konoplja.eventure.si
DTSTAMP:20260419T194633Z
DTSTART:20251229T180021
DTEND:20251229T190021
SUMMARY:🎶 Redna Brezplačna bobnarska delavnica in krog 🥁
DESCRIPTION:Pridružite se naši brezplačni bobnarski delavnici in naučite se igrati različne ritme na afriških bobnih. Vsi so dobrodošli.
LOCATION:MC Hotel Žalec\, Slovenia
URL:https://skupnost-konoplja.eventure.si/en/event/redna-brezplacna-bobnarska-delavnica-in-krog-14
END:VEVENT
END:VCALENDAR
