BEGIN:VCALENDAR
VERSION:2.0
PRODID:-//Yii2 Events//EN
BEGIN:VEVENT
UID:69e5311958dc1@skupnost-konoplja.eventure.si
DTSTAMP:20260419T194633Z
DTSTART:20260127T180015
DTEND:20260127T190015
SUMMARY:🎶 Redna Brezplačna bobnarska delavnica in krog 🥁
DESCRIPTION:Pridružite se brezplačni bobnarski delavnici\, naučite se igrati različne ritme na afriških bobnih. Vsi so dobrodošli. Urimo ritmični posluh in koordinaccijo\, ..
LOCATION:MC Hotel Žalec\, Slovenia
URL:https://skupnost-konoplja.eventure.si/en/event/redna-brezplacna-bobnarska-delavnica-in-krog-19
END:VEVENT
END:VCALENDAR
