BEGIN:VCALENDAR
VERSION:2.0
PRODID:-//Yii2 Events//EN
BEGIN:VEVENT
UID:69e56500699f8@skupnost-konoplja.eventure.si
DTSTAMP:20260419T232800Z
DTSTART:20250518T100000
DTEND:20250518T170000
SUMMARY:Rožni dan
DESCRIPTION:Vabljeni na dan odprtih vrat v čarobnem rožnem vrtu! Uživajte v razstavi cvetlic\, destilaciji vrtnic\, ustvarjanju enfluraze in gong kopeli. Pridružite se nam in se povežite z naravo!
LOCATION:Lokavec 202d\, Ajdovščina \, Lokavec \, Slovenia
URL:https://skupnost-konoplja.eventure.si/en/event/rozni-dan
END:VEVENT
END:VCALENDAR
