BEGIN:VCALENDAR
VERSION:2.0
PRODID:-//Yii2 Events//EN
BEGIN:VEVENT
UID:69e54ff5029d4@skupnost-konoplja.eventure.si
DTSTAMP:20260419T215813Z
DTSTART:20260626T183000
DTEND:20260626T193000
SUMMARY:Shamanika Kreativa - iZbor trenutka 
DESCRIPTION:Pridruži se živemu zboru Shamanika Kreativa za transformativno zvočno potovanje\, ustvarjanje svetega prostora skupaj s petjem in zvokom. Za polno doživljanje življenja.
LOCATION:Vrhnika\, Slovenia
URL:https://skupnost-konoplja.eventure.si/en/event/shamanika-kreativa-izbor-trenutka-3
END:VEVENT
END:VCALENDAR
