BEGIN:VCALENDAR
VERSION:2.0
PRODID:-//Yii2 Events//EN
BEGIN:VEVENT
UID:69e54ae772d0d@skupnost-konoplja.eventure.si
DTSTAMP:20260419T213639Z
DTSTART:20251018T180000
DTEND:20251018T190000
SUMMARY:🌟 Shamanika Kreativa 🌟 Obredno petje svetih pesmi
DESCRIPTION:Pridruži se Shamanika Kreativa\, obrednemu srečanju s svetim petjem. Doživi zvok\, prisotnost in skupnost za globoke uvide.
LOCATION:Vrbje - skriti plac med Savinjo in jezerom\, Slovenia
URL:https://skupnost-konoplja.eventure.si/en/event/shamanika-kreativa-obredno-petje-svetih-pesmi-463
END:VEVENT
END:VCALENDAR
