BEGIN:VCALENDAR
VERSION:2.0
PRODID:-//Yii2 Events//EN
BEGIN:VEVENT
UID:69e5313cb7d9c@skupnost-konoplja.eventure.si
DTSTAMP:20260419T194708Z
DTSTART:20251228T170041
DTEND:20251228T180041
SUMMARY:SINGING CIRCLE 🌟 Shamanika Kreativa 🌟obredno petje svetih pesmi
DESCRIPTION:Pridruži se Shamaniki Kreativi za transformativno zvočno potovanje\, ustvarjanje svetega prostora skupaj s petjem in zvokom\, petje pesmi iz celega sveta\, za vse.
LOCATION:Ljubljana\, Slovenia
URL:https://skupnost-konoplja.eventure.si/en/event/singing-circle-shamanika-kreativa-obredno-petje-svetih-pesmi
END:VEVENT
END:VCALENDAR
