BEGIN:VCALENDAR
VERSION:2.0
PRODID:-//Yii2 Events//EN
BEGIN:VEVENT
UID:69e5c30a92d9d@skupnost-konoplja.eventure.si
DTSTAMP:20260420T060914Z
DTSTART:20250613T190000
DTEND:20250613T210000
SUMMARY:Skupinska kundalini aktivacija
DESCRIPTION:Skupinska seansa kundalini aktivacije za prebujanje notranje energije. Doživite globoko sprostitev in širitev zavesti. Pridružite se nam!
LOCATION:Ljubljana\, Slovenia
URL:https://skupnost-konoplja.eventure.si/en/event/skupinska-kundalini-aktivacija-2
END:VEVENT
END:VCALENDAR
