BEGIN:VCALENDAR
VERSION:2.0
PRODID:-//Yii2 Events//EN
BEGIN:VEVENT
UID:69e5c77bd8f06@skupnost-konoplja.eventure.si
DTSTAMP:20260420T062811Z
DTSTART:20250408T183000
DTEND:20250408T203000
SUMMARY:Skupinska kundalini aktivacija
DESCRIPTION:Pridružite se nam na transformativnem dogodku Kundalini aktivacija in odkrijte svoj notranji energijski potencial.
LOCATION:Ljubljana\, Slovenia
URL:https://skupnost-konoplja.eventure.si/en/event/skupinska-kundalini-aktivacija-4
END:VEVENT
END:VCALENDAR
