BEGIN:VCALENDAR
VERSION:2.0
PRODID:-//Yii2 Events//EN
BEGIN:VEVENT
UID:69e530b7d687e@skupnost-konoplja.eventure.si
DTSTAMP:20260419T194455Z
DTSTART:20260617T200000
DTEND:20260617T213000
SUMMARY:Srčna Gong Kopel JUNIJ / Ljubljana 17.6.
DESCRIPTION:Pridružite se Srčni gong kopeli  v Ljubljani 17.6. ob 20h.\nProstor globoke sprostitve\, kjer se lahko ustavite\, zadihate in ponovno začutite stik s sabo.\nVeč o dogodku in prijava na gumbu spodaj.\nDobrodošli
LOCATION:Višja Vibracija\,  Ljubljana\, Ulica Andreja Bitenca 68\, Ljubljana\, Slovenia
URL:https://skupnost-konoplja.eventure.si/en/event/srcna-gong-kopel-junij-ljubljana-176
END:VEVENT
END:VCALENDAR
