BEGIN:VCALENDAR
VERSION:2.0
PRODID:-//Yii2 Events//EN
BEGIN:VEVENT
UID:69e53017ac26e@skupnost-konoplja.eventure.si
DTSTAMP:20260419T194215Z
DTSTART:20251121T190000
DTEND:20251121T203000
SUMMARY:Srčna Gong Kopel  Kromberk 21.11. - MIR V SRCU
DESCRIPTION:Sprejmite mir v srcu na zvočni kopeli v Kromberku 21. novembra. Doživite sprostitev skozi zvoke gonga in tibetanskih skled.
LOCATION:KS KROMBERK\, Ulica Vinka Vodopivca 90\, Kromberk\, Slovenia
URL:https://skupnost-konoplja.eventure.si/en/event/srcna-gong-kopel-kromberk-2111-mir-v-srcu
END:VEVENT
END:VCALENDAR
