BEGIN:VCALENDAR
VERSION:2.0
PRODID:-//Yii2 Events//EN
BEGIN:VEVENT
UID:69e5a94fb0d94@skupnost-konoplja.eventure.si
DTSTAMP:20260420T041927Z
DTSTART:20241007T040000
DTEND:20241008T000000
SUMMARY:Srečanje IND
DESCRIPTION:Pridružite se nam na Srečanju IND 6. oktobra 2024\, kjer bomo skupaj iskali rešitve za dobrobit otrok. Aktivno sodelovanje\, odprti dialogi ter možnosti za ustvarjanje in izražanje čakajo na vas!
LOCATION:Lukovica\, Lukovica\, Slovenia
URL:https://skupnost-konoplja.eventure.si/en/event/srecanje-ind
END:VEVENT
END:VCALENDAR
