BEGIN:VCALENDAR
VERSION:2.0
PRODID:-//Yii2 Events//EN
BEGIN:VEVENT
UID:69e58e2ad1d40@skupnost-konoplja.eventure.si
DTSTAMP:20260420T022338Z
DTSTART:20260131T100000
DTEND:20260131T110000
SUMMARY:Študij Ritma Na Šamanskih Bobnih 🥁✨
DESCRIPTION:Pridružite se delavnici na šamanskih bobnih in odkrijte umetnost ritma. Naučite se tehnik za učinkovito igranje v šestih urah.
LOCATION:Orfej\, Vrhnika\, Slovenia
URL:https://skupnost-konoplja.eventure.si/en/event/studij-ritma-na-samanskih-bobnih-3
END:VEVENT
END:VCALENDAR
