BEGIN:VCALENDAR
VERSION:2.0
PRODID:-//Yii2 Events//EN
BEGIN:VEVENT
UID:69e5d2fb8a5ce@skupnost-konoplja.eventure.si
DTSTAMP:20260420T071715Z
DTSTART:20260403T190000
DTEND:20260403T220000
SUMMARY:Večer Afriških Bobnov
DESCRIPTION:Bobnanje je zakoreninjeno globoko v naši podzavesti. Bobnala so plemena\, bobnali so naši predniki\, bobnanje nam je v krvi. V modernem svetu\, kjer se ukvarjamo z vsemi drugimi “pomembnimi” stvarmi\, to starodavno izročilo hitro porinemo na stran.\nTo je večer\, ko se spominjamo kdo v resnici smo. Bobni imajo zdravilno moč\, ki v nas odklepajo davno pozabljene in izgubljene občutke in spomine. Največje zdravljenje se zgodi takrat\, ko odklopimo glavo\, in se prepustimo trenutku.\nVabljeni moški\, ženske\, dekleta in fantje z vseh vetrov. Zagrabi svoj djembe boben\, tokrat rajamo v Aia - Mladinskem centru Mengeš. Predhodno znanje ni potrebno\, vse že znamo\, samo spomniti se moramo.\nŠe nimaš svojega bobna?\nNa dogodku si boben lahko tudi sposodiš. Na voljo je 7 bobnov za izposojo\, obvezno pa ob prijavi omeni\, da ti boben rezerviram.\nVabljeni vsi od začetnikov do profijev\,\nČe imaš občutek za ritem\, si naš.\nGremo po občutku\, brez plana\, pa vidimo kam nas večer odnese.\nObvezna prijava\, prijaviš se tukaj:\nhttps://lajf.guru/dogodek-bobnarski-krog/\nPriporočen prostovoljni prispevek: 20€\n+5€ Izposoja bobna
LOCATION:Mladinski Center Mengeš\, Slovenska cesta 28\, 1234 Mengeš\, Slovenija
URL:https://skupnost-konoplja.eventure.si/en/event/vecer-afriskih-bobnov
END:VEVENT
END:VCALENDAR
