BEGIN:VCALENDAR
VERSION:2.0
PRODID:-//Yii2 Events//EN
BEGIN:VEVENT
UID:69e5483ea00b6@skupnost-konoplja.eventure.si
DTSTAMP:20260419T212518Z
DTSTART:20260103T100026
DTEND:20251101T200000
SUMMARY:ZAVESTNO V NOVO LETO! 🎉✨
DESCRIPTION:Pridruži se nam\, da zavestno pozdravimo novo leto z rebirthingom\, skupinskimi aktivnostmi in osebnimi vpogledi za leto 2025.
LOCATION:Ljubljana\, Slovenia
URL:https://skupnost-konoplja.eventure.si/en/event/zavestno-v-novo-leto-2
END:VEVENT
END:VCALENDAR
