BEGIN:VCALENDAR
VERSION:2.0
PRODID:-//Yii2 Events//EN
BEGIN:VEVENT
UID:69e5cf6adf656@skupnost-konoplja.eventure.si
DTSTAMP:20260420T070202Z
DTSTART:20251108T100000
DTEND:20251108T170000
SUMMARY:Zemlja in kamen: prikaz trajnostnih rešitev in praktična delavnica suhozida
DESCRIPTION:Pridružite se prvemu slovenskem dogodku SusTech projekta\, raziskujte trajnostne rešitve in se udeležite delavnice suhozida.
LOCATION:Sončni grič\, Topolovec 29\, Hrvoji (slovenska Istra)\, Slovenia
URL:https://skupnost-konoplja.eventure.si/en/event/zemlja-in-kamen-prikaz-trajnostnih-resitev-in-prakticna-delavnica-suhozida
END:VEVENT
END:VCALENDAR
