BEGIN:VCALENDAR
VERSION:2.0
PRODID:-//Yii2 Events//EN
BEGIN:VEVENT
UID:69e530b81459a@skupnost-konoplja.eventure.si
DTSTAMP:20260419T194456Z
DTSTART:20260410T180000
DTEND:20260410T190000
SUMMARY:🌍 BOBNARSKI / PLESNI KROG IN ŠAMANSKO POTOVANJE 🌌  
DESCRIPTION:Pridružite se Bobnarskemu plesu in šamanskemu potovanju. Vodi Žiga Birs. Doživite ritem\, skupnost in raziskujte globine obstoja preko bobnanja\, petja in plesa.
LOCATION:Vrhnika\, Sinja Gorica\, Slovenia
URL:https://skupnost-konoplja.eventure.si/hr/event/bobnarski-plesni-krog-in-samansko-potovanje-5
END:VEVENT
END:VCALENDAR
