BEGIN:VCALENDAR
VERSION:2.0
PRODID:-//Yii2 Events//EN
BEGIN:VEVENT
UID:69e57312d4e26@skupnost-konoplja.eventure.si
DTSTAMP:20260420T002802Z
DTSTART:20251001T180000
DTEND:20251001T190000
SUMMARY:✨ DRAMILO ✨
DESCRIPTION:Pridružite se DRAMILU\, delavnici\, ki raziskuje življenjske izzive skozi improvizirano dramo. Izkušnje ustvarjalnosti in povezovanja!
LOCATION:Črnuče\, Ljubljana ob Savi\, Slovenia
URL:https://skupnost-konoplja.eventure.si/hr/event/dramilo-2
END:VEVENT
END:VCALENDAR
