BEGIN:VCALENDAR
VERSION:2.0
PRODID:-//Yii2 Events//EN
BEGIN:VEVENT
UID:69e5c8fd6671c@skupnost-konoplja.eventure.si
DTSTAMP:20260420T063437Z
DTSTART:20250808T200000
DTEND:20250808T210000
SUMMARY:FOGUEIRA & SunD
DESCRIPTION:Druženje ob ognju pod polno luno.
LOCATION:Magic Garden\, Dvor 6b\, Ljubljana\, Slovenia
URL:https://skupnost-konoplja.eventure.si/hr/event/fogueira-sund
END:VEVENT
END:VCALENDAR
