BEGIN:VCALENDAR
VERSION:2.0
PRODID:-//Yii2 Events//EN
BEGIN:VEVENT
UID:69e5637654d57@skupnost-konoplja.eventure.si
DTSTAMP:20260419T232126Z
DTSTART:20251129T200000
DTEND:20251129T210000
SUMMARY:Mistično zvočno potovanje z gongi 🎶🌌 ALTE
DESCRIPTION:Vabljeni na mistično zvočno potovanje z gongi\, kjer se spojita glasba in meditacija za globoko izkušnjo.
LOCATION:Mladinski center AIA Mengeš\, Slovenska cesta 28\, Mengeš\, Slovenia
URL:https://skupnost-konoplja.eventure.si/hr/event/misticno-zvocno-potovanje-z-gongi-alte-4
END:VEVENT
END:VCALENDAR
