BEGIN:VCALENDAR
VERSION:2.0
PRODID:-//Yii2 Events//EN
BEGIN:VEVENT
UID:69e5bf366ddf8@skupnost-konoplja.eventure.si
DTSTAMP:20260420T055254Z
DTSTART:20250818T080000
DTEND:20250821T170000
SUMMARY:Počitnice na kmetiji v družbi konj
DESCRIPTION:Nepozabne počitnice na kmetiji za otroke od 6 do 14 let. Zabavne aktivnosti in nova prijateljstva čakajo!
LOCATION:Na kmetiji\, Lepa Njiva 13\, Mozirje\, Slovenia
URL:https://skupnost-konoplja.eventure.si/hr/event/pocitnice-na-kmetiji-v-druzbi-konj
END:VEVENT
END:VCALENDAR
