BEGIN:VCALENDAR
VERSION:2.0
PRODID:-//Yii2 Events//EN
BEGIN:VEVENT
UID:69e5c1642ff8d@skupnost-konoplja.eventure.si
DTSTAMP:20260420T060212Z
DTSTART:20250914T000000
DTEND:20250921T140000
SUMMARY:Retreat: Plavanje in zdravljenje z delfini v Satayi
DESCRIPTION:Pridružite se tedenskemu umiku v Satayi\, kjer vas delfini in čarobnost Rdečega morja prebudijo. Doživite mir v naravi.
LOCATION:Koralni greben Sataya\, Sataya\, rdečo morje\, Egipt\, Slovenia
URL:https://skupnost-konoplja.eventure.si/hr/event/retreat-plavanje-in-zdravljenje-z-delfini-v-satayi-2
END:VEVENT
END:VCALENDAR
