BEGIN:VCALENDAR
VERSION:2.0
PRODID:-//Yii2 Events//EN
BEGIN:VEVENT
UID:69e5fc7b3213b@skupnost-konoplja.eventure.si
DTSTAMP:20260420T101419Z
DTSTART:20250925T190000
DTEND:20250927T193000
SUMMARY:Sijem v svoji pristni in unikatni ženski esenci ~ brezplačni online ženski krogi
DESCRIPTION:Pridruži se brezplačnemu trodnevnemu srečanju in raziskuj svojo pristno žensko esenco. V živo od 25. do 27. septembra.
LOCATION:Spletni događaj
URL:https://skupnost-konoplja.eventure.si/hr/event/sijem-v-svoji-pristni-in-unikatni-zenski-esenci-brezplacni-online-zenski-krogi
END:VEVENT
END:VCALENDAR
