BEGIN:VCALENDAR
VERSION:2.0
PRODID:-//Yii2 Events//EN
BEGIN:VEVENT
UID:69e5d7b6ef96f@skupnost-konoplja.eventure.si
DTSTAMP:20260420T073726Z
DTSTART:20250516T183000
DTEND:20250516T203000
SUMMARY:Skupinska kundalini aktivacija
DESCRIPTION:Pridružite se naši skupinski kundalini aktivaciji za raziskovanje globoke meditacije\, pretoka energije in osebne transformacije. Vse ravni dobrodošle.
LOCATION:Ljubljana\, Slovenia
URL:https://skupnost-konoplja.eventure.si/hr/event/skupinska-kundalini-aktivacija
END:VEVENT
END:VCALENDAR
