BEGIN:VCALENDAR
VERSION:2.0
PRODID:-//Yii2 Events//EN
BEGIN:VEVENT
UID:69e57732e82f7@skupnost-konoplja.eventure.si
DTSTAMP:20260420T004538Z
DTSTART:20251230T170000
DTEND:20251231T020000
SUMMARY:Source Flow | 19.10. | Prebujanje
DESCRIPTION:Pridružite se nam na Source Flow\, celostni izkušnji 19. oktobra 2025\, kjer glasba in gibanje spodbujata globoko samopovezavo.
LOCATION:Studio Eviana\, Špruha 19\, trzin\, Slovenia
URL:https://skupnost-konoplja.eventure.si/hr/event/source-flow-1910-prebujanje
END:VEVENT
END:VCALENDAR
