BEGIN:VCALENDAR
VERSION:2.0
PRODID:-//Yii2 Events//EN
BEGIN:VEVENT
UID:69e5f88786c9d@skupnost-konoplja.eventure.si
DTSTAMP:20260420T095727Z
DTSTART:20251213T160000
DTEND:20251213T230000
SUMMARY:TEMPLE NIGHT - spuščanje kontrole
DESCRIPTION:Pridi na TEMPLE NIGHT: Večer zaupanja in predaje. Raziskuj sebe v varnem prostoru brez potrebe po kontroli.
LOCATION:Eviana studio\, Špruha\, Trzin\, Slovenia
URL:https://skupnost-konoplja.eventure.si/hr/event/temple-night-spuscanje-kontrole
END:VEVENT
END:VCALENDAR
