BEGIN:VCALENDAR
VERSION:2.0
PRODID:-//Yii2 Events//EN
BEGIN:VEVENT
UID:69e57d39abc93@skupnost-konoplja.eventure.si
DTSTAMP:20260420T011121Z
DTSTART:20250930T200000
DTEND:20250930T213000
SUMMARY:Zvočna kopel s tibetanskim gongom
DESCRIPTION:Zvočna meditacija z tibetanskimi gongi odpira energetske poti in spodbuja samozdravljenje.
LOCATION:Center Chakana\, Center Chakana\, Cvetkova ulica 33\, Ljubljana\, Slovenia
URL:https://skupnost-konoplja.eventure.si/hr/event/zvocna-kopel-s-tibetanskim-gongom-2
END:VEVENT
END:VCALENDAR
