BEGIN:VCALENDAR
VERSION:2.0
PRODID:-//Yii2 Events//EN
BEGIN:VEVENT
UID:69e5af67603c0@skupnost-konoplja.eventure.si
DTSTAMP:20260420T044527Z
DTSTART:20250825T180000
DTEND:20250825T193000
SUMMARY:Heart puja\, čaščenje srca
DESCRIPTION:Heart Puja je povabilo k srečanju kot ljudje\, kjer odložimo vloge in maske za pristno povezavo od srca do srca.
LOCATION:Velika dvorana\, Cesta Andreja Bitenca 68\, 1000 Ljubljana\, Slovenia
URL:https://skupnost-konoplja.eventure.si/sl/event/heart-puja-cascenje-srca-4
END:VEVENT
END:VCALENDAR
