BEGIN:VCALENDAR
VERSION:2.0
PRODID:-//Yii2 Events//EN
BEGIN:VEVENT
UID:69e56366cb1da@skupnost-konoplja.eventure.si
DTSTAMP:20260419T232110Z
DTSTART:20251108T150000
DTEND:20251108T200000
SUMMARY:IZKUSTVENA DELAVNICA - POSTAVITEV NOTRANJE ŽENSKE IN MOŠKEGA
DESCRIPTION:Pridružite se naši izkustveni delavnici za uravnoteženje notranje ženske in moškega. Odkrijte harmonijo v sebi.
LOCATION:Studio Eviana\, špruha 19\, Slovenia
URL:https://skupnost-konoplja.eventure.si/sl/event/izkustvena-delavnica-postavitev-notranje-zenske-in-moskega
END:VEVENT
END:VCALENDAR
