BEGIN:VCALENDAR
VERSION:2.0
PRODID:-//Yii2 Events//EN
BEGIN:VEVENT
UID:69e563765694f@skupnost-konoplja.eventure.si
DTSTAMP:20260419T232126Z
DTSTART:20251017T180000
DTEND:20251017T200000
SUMMARY:Kundalini aktivacija s svetlobnimi kodami
DESCRIPTION:Pridruži se nam in zbudi svojo življenjsko energijo s Kundalini aktivacijo in svetlobnimi kodami ter globlje poveži s seboj.
LOCATION:Večnamenski prostor Aurora\, Hruševska 74\, Ljubljana\, Slovenia
URL:https://skupnost-konoplja.eventure.si/sl/event/kundalini-aktivacija-s-svetlobnimi-kodami
END:VEVENT
END:VCALENDAR
