BEGIN:VCALENDAR
VERSION:2.0
PRODID:-//Yii2 Events//EN
BEGIN:VEVENT
UID:69e5aeaae0bcd@skupnost-konoplja.eventure.si
DTSTAMP:20260420T044218Z
DTSTART:20250624T200000
DTEND:20250624T210000
SUMMARY:MEDITALIJE / Elektronska ambientalna glasba v živo
DESCRIPTION:
LOCATION:Pred Fragmenti\, ulilčni chilax\, Slovenia
URL:https://skupnost-konoplja.eventure.si/sl/event/meditalije-elektronska-ambientalna-glasba-v-zivo-4
END:VEVENT
END:VCALENDAR
