BEGIN:VCALENDAR
VERSION:2.0
PRODID:-//Yii2 Events//EN
BEGIN:VEVENT
UID:69e5cb18cacba@skupnost-konoplja.eventure.si
DTSTAMP:20260420T064336Z
DTSTART:20250620T180000
DTEND:20250620T190000
SUMMARY:Praznovanje začetka poletja
DESCRIPTION:Pridružite se nam na praznovanju začetka poletja s premikanjem in zvočno terapijo. Primerno za začetnike!
LOCATION:Slovenia
URL:https://skupnost-konoplja.eventure.si/sl/event/praznovanje-zacetka-poletja
END:VEVENT
END:VCALENDAR
