BEGIN:VCALENDAR
VERSION:2.0
PRODID:-//Yii2 Events//EN
BEGIN:VEVENT
UID:69e56376571ee@skupnost-konoplja.eventure.si
DTSTAMP:20260419T232126Z
DTSTART:20260428T180000
DTEND:20260428T190000
SUMMARY:🎶 Redna Brezplačna bobnarska delavnica in krog skupnega izraza 🥁  
DESCRIPTION:Pridružite se brezplačni bobnarski delavnici\, izraznem krogu. Vsi so dobrodošli. Urimo ritmični posluh in koordinaccijo rok\, ..urimo sproščenost\, zbranost in skupno igranje.  Bobnanju sledi tudi skupno petje. Kakor kdo hoče. 
LOCATION:MC Hotel Žalec\, MC Hotel Žalec\, Žalec\, Slovenia
URL:https://skupnost-konoplja.eventure.si/sl/event/redna-brezplacna-bobnarska-delavnica-in-krog-skupnega-izraza-5
END:VEVENT
END:VCALENDAR
