BEGIN:VCALENDAR
VERSION:2.0
PRODID:-//Yii2 Events//EN
BEGIN:VEVENT
UID:69e54dd0090d5@skupnost-konoplja.eventure.si
DTSTAMP:20260419T214904Z
DTSTART:20260423T200000
DTEND:20260423T213000
SUMMARY:Srčna Gong Kopel - OSTAJAM I Kromberk 23.4.
DESCRIPTION:Srčna gong kopel - 𝐎𝐒𝐓𝐀𝐉𝐀𝐌\, Kromberk 23..4.ob 20h.\nGloboka sprostitev. Umiritev uma. Prizemljitev telesa.\nProstor\, kjer lahko samo si.\nVeč o dogodku in prijava na gumbu spodaj.\nDobrodošli
LOCATION:KS KROMBERK\, Ulica Vinka Vodopivca 90\, Kromberk\, Nova Gorica\, Slovenia
URL:https://skupnost-konoplja.eventure.si/sl/event/srcna-gong-kopel-ostajam-i-kromberk-234
END:VEVENT
END:VCALENDAR
