BEGIN:VCALENDAR
VERSION:2.0
PRODID:-//Yii2 Events//EN
BEGIN:VEVENT
UID:69e5d54de91fd@skupnost-konoplja.eventure.si
DTSTAMP:20260420T072709Z
DTSTART:20250806T190000
DTEND:20250806T200000
SUMMARY:Tachyon musician KENTA HAYASHI - Magic sound experience
DESCRIPTION:Doživite magijo KENTE HAYASHI-ja z 432Hz zvočnim zdravljenjem in meditacijo dihanja svetlobe\, ki ji sledi očarljiv živi nastop.
LOCATION:Magic Garden\, Dvor 6b\, Ljubljana\, Slovenia
URL:https://skupnost-konoplja.eventure.si/sl/event/tachyon-musician-kenta-hayashi-magic-sound-experience
END:VEVENT
END:VCALENDAR
