BEGIN:VCALENDAR
VERSION:2.0
PRODID:-//Yii2 Events//EN
BEGIN:VEVENT
UID:69e5d17c7471c@skupnost-konoplja.eventure.si
DTSTAMP:20260420T071052Z
DTSTART:20250925T160000
DTEND:20250925T200000
SUMMARY:🌟 VELIKI DNEVI ODPRTIH VRAT - Spoznajte Frekvenčno Tehnologijo EES! ✨
DESCRIPTION:Vabimo vas na dneve odprtih vrat 25.-28. septembra\, kjer spoznate EES tehnologijo in se prijavite na brezplačno terapijo.
LOCATION:Šlandrova ulica 8d\, Slovenia
URL:https://skupnost-konoplja.eventure.si/sl/event/veliki-dnevi-odprtih-vrat-spoznajte-frekvencno-tehnologijo-ees
END:VEVENT
END:VCALENDAR
