BEGIN:VCALENDAR
VERSION:2.0
PRODID:-//Yii2 Events//EN
BEGIN:VEVENT
UID:69e9f76e178c9@skupnost-konoplja.eventure.si
DTSTAMP:20260423T104150Z
DTSTART:20260409T180000
DTEND:20260409T190000
SUMMARY:Zakladjedelnica - Ustvarjalno Mesto za Majhne in Velike Zaklade 💎✨ 
DESCRIPTION:Dobrodošli v Zakladjedelnico\, ustvarjalno mesto za vse starosti ustvarjamo majhne zaklade za velike namene. stvari\, ki si jih sami naredite bodo imele vrednost
LOCATION:MC žalec\, Slovenia
URL:https://skupnost-konoplja.eventure.si/sl/event/zakladjedelnica-ustvarjalno-mesto-za-majhne-in-velike-zaklade-5
END:VEVENT
END:VCALENDAR
