BEGIN:VCALENDAR
VERSION:2.0
PRODID:-//Yii2 Events//EN
BEGIN:VEVENT
UID:69e593d416450@skupnost-konoplja.eventure.si
DTSTAMP:20260420T024748Z
DTSTART:20241201T150000
DTEND:20241202T030000
SUMMARY:Zimske radosti za Lada otroke
DESCRIPTION:Pridružite se nam pri Zimskih radostih za Lada otroke! Pomagajte nam zagotoviti dostop do zimskih športov in aktivnosti\, ki otrokom prinašajo veselje\, samozavest in priložnost za igro v naravi. Vaša podpora je ključna za njihovo srečno otroštvo.
LOCATION:Po dogovoru\, Slovenia
URL:https://skupnost-konoplja.eventure.si/sl/event/zimske-radosti-za-lada-otroke
END:VEVENT
END:VCALENDAR
