BEGIN:VCALENDAR
VERSION:2.0
PRODID:-//Yii2 Events//EN
BEGIN:VEVENT
UID:69e5cb333cad2@skupnost-konoplja.eventure.si
DTSTAMP:20260420T064403Z
DTSTART:20250309T180000
DTEND:20250309T190000
SUMMARY:Zvočna kopel 9. marca
DESCRIPTION:Pridružite se nam na zvočni kopeli z Vladimirjem 9. marca ob 18. uri v Trbovljah. Izkušnja sprostitve in dobrega počutja.
LOCATION:Slovenia
URL:https://skupnost-konoplja.eventure.si/sl/event/zvocna-kopel-9-marca
END:VEVENT
END:VCALENDAR
