BEGIN:VCALENDAR
VERSION:2.0
PRODID:-//Yii2 Events//EN
BEGIN:VEVENT
UID:69e5c8fd638ec@skupnost-konoplja.eventure.si
DTSTAMP:20260420T063437Z
DTSTART:20250921T160000
DTEND:20250921T173000
SUMMARY:Zvočni Nektar
DESCRIPTION:Pridružite se delavnici zvočne meditacije z gongom in indijansko flavto za aktivno izkušnjo zavestne prisotnosti in odkrivanja sebe.
LOCATION:Spletni dogodek
URL:https://skupnost-konoplja.eventure.si/sl/event/zvocni-nektar
END:VEVENT
END:VCALENDAR
